BEGIN:VCALENDAR
VERSION:2.0
PRODID:-//Vrije Universiteit Amsterdam//NONSGML v1.0//EN
NAME:Verbeteren zorgkwaliteit hoofd- en halskanker met brongegevens
METHOD:PUBLISH
BEGIN:VEVENT
DTSTART:20250620T110000
DTEND:20250620T123000
DTSTAMP:20250620T110000
UID:2025/verbeteren-zorgkwaliteit-@8F96275E-9F55-4B3F-A143-836282E12573
CREATED:20260420T205513
LOCATION:UvA Aula Singel 411 1012WN Amsterdam
SUMMARY:Verbeteren zorgkwaliteit hoofd- en halskanker met brongegevens
X-ALT-DESC;FMTTYPE=text/html: <html> <body> <p>ACTA-promovendus Domini
 que de Jel onderzocht hoe de zorgkwaliteit verbetert bij hoofd- en ha
 lskanker door het gebruik van brongegevens.</p> <p>Meer informatie vi
 nd je in haar proefschrift '<a href="https://www.uva.nl/en/shared-con
 tent/uva/nl/evenementen/2025/06/optimalisatie-van-de-evaluatie-van-de
 -zorgkwaliteit-bij-de-behandeling-van-hoofd-halskanker.html">SAILING 
 UPWIND: Optimizing quality-of-care evaluation through source data uti
 lization in head and neck cancer treatment</a>'.</p> </body> </html>
DESCRIPTION: Meer informatie vind je in haar proefschrift '<a href="ht
 tps://www.uva.nl/en/shared-content/uva/nl/evenementen/2025/06/optimal
 isatie-van-de-evaluatie-van-de-zorgkwaliteit-bij-de-behandeling-van-h
 oofd-halskanker.html">SAILING UPWIND: Optimizing quality-of-care eval
 uation through source data utilization in head and neck cancer treatm
 ent</a>'. ACTA-promovendus Dominique de Jel onderzocht hoe de zorgkwa
 liteit verbetert bij hoofd- en halskanker door het gebruik van bronge
 gevens.
END:VEVENT
END:VCALENDAR
