BEGIN:VCALENDAR
VERSION:2.0
PRODID:-//Vrije Universiteit Amsterdam//NONSGML v1.0//EN
NAME:Microbiota in de mond: resistentiegenen en reuma
METHOD:PUBLISH
BEGIN:VEVENT
DTSTART:20260408T121500
DTEND:20260408T130000
DTSTAMP:20260408T121500
UID:2026/microbiota-in-de-mond-res@8F96275E-9F55-4B3F-A143-836282E12573
CREATED:20260421T154927
LOCATION:Kleine collegezaal OZ-04
SUMMARY:Microbiota in de mond: resistentiegenen en reuma
X-ALT-DESC;FMTTYPE=text/html: <html> <body> <p>Hoe functionele en gene
 tische kenmerken van het microbioom in de mond bijdragen aan ziektes 
 in de mond en systemische auto-immuniteit.</p> <p>8 april geeft hoogl
 eraar moleculaire microbiologie Thuy Do (School of Dentistry, Univers
 ity of Leeds, UK) een lezing bij ACTA over het microbioom in de mond:
  van de verspreiding van resistentiegenen tot de relatie met reumato�
 �de artritis. Reumatoïde artritis is een vorm van reuma en een chron
 ische ontstekingsziekte van de gewrichten.</p><p>Nieuw onderzoek laat
  zien dat veranderingen in de bacteriën en genetische eigenschappen 
 van de mond een belangrijke rol kunnen spelen bij het ontstaan van mo
 ndziekten én andere ziektes in het lichaam. Zo blijken bepaalde patr
 onen in mondbacteriën en hun resistentie tegen antibiotica goede voo
 rspellers te zijn voor parodontitis (ernstige tandvleesontsteking). D
 aarnaast zijn er aanwijzingen dat processen in het tandvlees al vóó
 r de 1e klachten een rol kunnen spelen bij het ontstaan van reumatoï
 de artritis.</p> </body> </html>
DESCRIPTION: 8 april geeft hoogleraar moleculaire microbiologie Thuy D
 o (School of Dentistry, University of Leeds, UK) een lezing bij ACTA 
 over het microbioom in de mond: van de verspreiding van resistentiege
 nen tot de relatie met reumatoïde artritis. Reumatoïde artritis is 
 een vorm van reuma en een chronische ontstekingsziekte van de gewrich
 ten. Nieuw onderzoek laat zien dat veranderingen in de bacteriën en 
 genetische eigenschappen van de mond een belangrijke rol kunnen spele
 n bij het ontstaan van mondziekten én andere ziektes in het lichaam.
  Zo blijken bepaalde patronen in mondbacteriën en hun resistentie te
 gen antibiotica goede voorspellers te zijn voor parodontitis (ernstig
 e tandvleesontsteking). Daarnaast zijn er aanwijzingen dat processen 
 in het tandvlees al vóór de 1e klachten een rol kunnen spelen bij h
 et ontstaan van reumatoïde artritis. Hoe functionele en genetische k
 enmerken van het microbioom in de mond bijdragen aan ziektes in de mo
 nd en systemische auto-immuniteit.
END:VEVENT
END:VCALENDAR
