BEGIN:VCALENDAR
VERSION:2.0
PRODID:-//Vrije Universiteit Amsterdam//NONSGML v1.0//EN
NAME:Onderwijssymposium Gezamenlijk opleiden in de mondzorg
METHOD:PUBLISH
BEGIN:VEVENT
DTSTART:20260402T093000
DTEND:20260402T200000
DTSTAMP:20260402T093000
UID:2026/onderwijssymposium-gezame@8F96275E-9F55-4B3F-A143-836282E12573
CREATED:20260421T105727
LOCATION:
SUMMARY:Onderwijssymposium Gezamenlijk opleiden in de mondzorg
X-ALT-DESC;FMTTYPE=text/html: <html> <body> <p>Hoe leiden we mondzorgp
 rofessionals op die klaar zijn voor de toekomst? Ontdek het tijdens h
 et tweejaarlijkse Onderwijssymposium Tandheelkunde op donderdag 2 apr
 il 2026.</p> <p>Dit symposium wordt georganiseerd door de opleidingen
  Tandheelkunde van de Rijksuniversiteit Groningen, Radboud Universite
 it en ACTA, en wordt deze keer gehost door ACTA. Het evenement brengt
  mondzorgprofessionals en studenten samen voor een inspirerende dag v
 ol kennisuitwisseling, innovatie en verdieping.</p><h3><strong>Progra
 mma</strong></h3><p><strong>09:30</strong> – Inloop en registratie 
 met koffie en thee (Theater 1 in het NU-gebouw op de <a href="https:/
 /vu.nl/nl/over-de-vu/meer-over/plattegrond-vu-campus">VU-campus</a>)<
 /p><p><strong>10:15</strong> – Welkom door decaan Fedde Scheele (AC
 TA), introductie van het dagprogramma en de (workshop)thema’s door 
 de organisatiecommissie</p><p><strong>10:30</strong> – Keynote-lezi
 ng “Who will have the final say: the dentist, dental education or .
 .. the algorithm?”. Deze wordt verzorgd door <a href="https://www.l
 inkedin.com/in/desir%C3%A9e-joosten-ten-brinke-%F0%9F%9F%A5-15a9905/"
 >Desirée Joosten-ten Brinke</a>, hoogleraar leren en toetsen aan de 
 Faculty of Health, Medicine and Life Sciences van de Universiteit Maa
 stricht. In haar lezing gaat zij in op de impact van AI op het beroep
  van de tandarts en de gevolgen daarvan voor het tandheelkunde-onderw
 ijs.</p><p><strong>11:15</strong> – Pauze waarin we ons verplaatsen
  van het NU- naar het ACTA-gebouw (beiden op het VU Campusterrein)</p
 ><p><strong>11:45</strong> – Rondleiding door het ACTA-gebouw</p><p
 ><strong>12:00</strong> – Lunch (8<sup>ste</sup> etage)</p><p><stro
 ng>13:30</strong> – Workshopsessies ronde I</p><ul>  <li>De oudere 
 patiënt | De oudere patiënt in de mondzorg (locatie: 6Z68)</li>  <l
 i>Interprofessioneel samenwerken | Samenwerken in de mondzorg – wat
  zie jij wat ik niet zie? (locatie: 12N62)</li>  <li>Simulatie-onderw
 ijs, bestaande uit de onderdelen (i) simulatie-onderwijs en (ii) virt
 ual reality (locatie: 0Z02 respectievelijk 0N-94)</li>  <li>Werkplekl
 eren | Leren in de kliniek (locatie: 11N62)</li>  <li>AI in feedbackp
 rocessen | AI in de opleiding Tandheelkunde: van ethische keuzes tot 
 praktische onderwijsversterking (locatie: kleine collegezaal)</li></u
 l><p><strong>14:45 </strong>– Pauze met catering in de centrale hal
  op de begane grond</p><p><strong>15:15</strong> – Workshopsessies 
 ronde II</p><ul>  <li>De oudere patiënt | De oudere patiënt in de m
 ondzorg (locatie: 6Z68)</li>  <li>Interprofessioneel samenwerken | Sa
 menwerken in de mondzorg – wat zie jij wat ik niet zie? (locatie: 1
 2N62)</li>  <li>Simulatie-onderwijs, bestaande uit de onderdelen (i) 
 simulatie-onderwijs en (ii) virtual reality (locatie: 0Z02 respectiev
 elijk 0N-94)</li>  <li>Werkplekleren | Leren in de kliniek (locatie: 
 11N62)</li>  <li>AI in feedbackprocessen | AI in de opleiding Tandhee
 lkunde: van ethische keuzes tot praktische onderwijsversterking (loca
 tie: kleine collegezaal)</li></ul><p><strong>16:30</strong> – Pauze
 </p><p><strong>16:45</strong> – Dankwoord in de Grote collegezaal</
 p><p><strong>17:00</strong> – Terugspeeltheater "Onderwijservaringe
 n komen tot leven" in de Grote collegezaal</p><p><strong>17:45</stron
 g> – Informeel samenzijn en dinerbuffet in de centrale hal begane g
 rond</p> </body> </html>
DESCRIPTION: Dit symposium wordt georganiseerd door de opleidingen Tan
 dheelkunde van de Rijksuniversiteit Groningen, Radboud Universiteit e
 n ACTA, en wordt deze keer gehost door ACTA. Het evenement brengt mon
 dzorgprofessionals en studenten samen voor een inspirerende dag vol k
 ennisuitwisseling, innovatie en verdieping. <h3><strong>Programma</st
 rong></h3> <strong>09:30</strong> – Inloop en registratie met koffi
 e en thee (Theater 1 in het NU-gebouw op de <a href="https://vu.nl/nl
 /over-de-vu/meer-over/plattegrond-vu-campus">VU-campus</a>) <strong>1
 0:15</strong> – Welkom door decaan Fedde Scheele (ACTA), introducti
 e van het dagprogramma en de (workshop)thema’s door de organisatiec
 ommissie <strong>10:30</strong> – Keynote-lezing “Who will have t
 he final say: the dentist, dental education or ... the algorithm?”.
  Deze wordt verzorgd door <a href="https://www.linkedin.com/in/desir%
 C3%A9e-joosten-ten-brinke-%F0%9F%9F%A5-15a9905/">Desirée Joosten-ten
  Brinke</a>, hoogleraar leren en toetsen aan de Faculty of Health, Me
 dicine and Life Sciences van de Universiteit Maastricht. In haar lezi
 ng gaat zij in op de impact van AI op het beroep van de tandarts en d
 e gevolgen daarvan voor het tandheelkunde-onderwijs. <strong>11:15</s
 trong> – Pauze waarin we ons verplaatsen van het NU- naar het ACTA-
 gebouw (beiden op het VU Campusterrein) <strong>11:45</strong> – Ro
 ndleiding door het ACTA-gebouw <strong>12:00</strong> – Lunch (8<su
 p>ste</sup> etage) <strong>13:30</strong> – Workshopsessies ronde I
  <ul>  <li>De oudere patiënt | De oudere patiënt in de mondzorg (lo
 catie: 6Z68)</li>  <li>Interprofessioneel samenwerken | Samenwerken i
 n de mondzorg – wat zie jij wat ik niet zie? (locatie: 12N62)</li> 
  <li>Simulatie-onderwijs, bestaande uit de onderdelen (i) simulatie-o
 nderwijs en (ii) virtual reality (locatie: 0Z02 respectievelijk 0N-94
 )</li>  <li>Werkplekleren | Leren in de kliniek (locatie: 11N62)</li>
   <li>AI in feedbackprocessen | AI in de opleiding Tandheelkunde: van
  ethische keuzes tot praktische onderwijsversterking (locatie: kleine
  collegezaal)</li></ul> <strong>14:45 </strong>– Pauze met catering
  in de centrale hal op de begane grond <strong>15:15</strong> – Wor
 kshopsessies ronde II <ul>  <li>De oudere patiënt | De oudere patië
 nt in de mondzorg (locatie: 6Z68)</li>  <li>Interprofessioneel samenw
 erken | Samenwerken in de mondzorg – wat zie jij wat ik niet zie? (
 locatie: 12N62)</li>  <li>Simulatie-onderwijs, bestaande uit de onder
 delen (i) simulatie-onderwijs en (ii) virtual reality (locatie: 0Z02 
 respectievelijk 0N-94)</li>  <li>Werkplekleren | Leren in de kliniek 
 (locatie: 11N62)</li>  <li>AI in feedbackprocessen | AI in de opleidi
 ng Tandheelkunde: van ethische keuzes tot praktische onderwijsverster
 king (locatie: kleine collegezaal)</li></ul> <strong>16:30</strong> �
 �� Pauze <strong>16:45</strong> – Dankwoord in de Grote collegezaal
  <strong>17:00</strong> – Terugspeeltheater "Onderwijservaringen ko
 men tot leven" in de Grote collegezaal <strong>17:45</strong> – Inf
 ormeel samenzijn en dinerbuffet in de centrale hal begane grond Hoe l
 eiden we mondzorgprofessionals op die klaar zijn voor de toekomst? On
 tdek het tijdens het tweejaarlijkse Onderwijssymposium Tandheelkunde 
 op donderdag 2 april 2026.
END:VEVENT
END:VCALENDAR
